BEGIN:VCALENDAR
VERSION:2.0
PRODID:-//80.152.173.35//NONSGML kigkonsult.se iCalcreator 2.20//
CALSCALE:GREGORIAN
METHOD:PUBLISH
X-WR-TIMEZONE:Europe/Berlin
BEGIN:VEVENT
UID:event3707@Drebkauer-Ansichten
DTSTAMP:20260421T084725Z
CATEGORIES:Essen & Trinken\, Sport & Freizeit\, Bildung & Kultur\, Musik & 
 Tanz
DESCRIPTION:Osterfeuer\nKategorie: Essen & Trinken\, Sport & Freizeit\, Bil
 dung & Kultur\, Musik & Tanz\nICS-Link: https://www.drebkauer-ansichten.de
 /index.php?option=com_jem&view=event&id=3707:osterfeuer\n
DTSTART;TZID=Europe/Berlin:20260404T190000
DTEND;TZID=Europe/Berlin:20260404T190000
LOCATION:Koschendorf\,03116 Koschendorf
SUMMARY:Osterfeuer
URL:https://www.drebkauer-ansichten.de/index.php?option=com_jem&view=event&
 id=3707:osterfeuer
END:VEVENT
END:VCALENDAR