BEGIN:VCALENDAR
VERSION:2.0
PRODID:-//80.152.173.35//NONSGML kigkonsult.se iCalcreator 2.20//
CALSCALE:GREGORIAN
METHOD:PUBLISH
X-WR-TIMEZONE:Europe/Berlin
BEGIN:VEVENT
UID:event2033@Drebkauer-Ansichten
DTSTAMP:20260419T124903Z
CATEGORIES:Essen & Trinken
DESCRIPTION:Café Steinitzhof\nKategorie: Essen & Trinken\nICS-Link: https:/
 /www.drebkauer-ansichten.de/index.php?option=com_jem&view=event&id=2033:ca
 fe-steinitzhof\n
DTSTART;TZID=Europe/Berlin:20210206T130000
DTEND;TZID=Europe/Berlin:20210206T170000
LOCATION:Steinitzhof\,Steinitzer Dorfstraße 1\,03116 Steinitz
SUMMARY:Café Steinitzhof
URL:https://www.drebkauer-ansichten.de/index.php?option=com_jem&view=event&
 id=2033:cafe-steinitzhof
END:VEVENT
END:VCALENDAR