BEGIN:VCALENDAR
VERSION:2.0
PRODID:-//80.152.173.35//NONSGML kigkonsult.se iCalcreator 2.20//
CALSCALE:GREGORIAN
METHOD:PUBLISH
X-WR-TIMEZONE:Europe/Berlin
BEGIN:VEVENT
UID:event3827@Drebkauer-Ansichten
DTSTAMP:20260421T150937Z
CATEGORIES:Sport & Freizeit\, Essen & Trinken
DESCRIPTION:Himmelfahrt\nKategorie: Sport & Freizeit\, Essen & Trinken\nICS
 -Link: https://www.drebkauer-ansichten.de/index.php?option=com_jem&view=ev
 ent&id=3827:himmelfahrt\n
DTSTART;TZID=Europe/Berlin:20260514T103000
DTEND;TZID=Europe/Berlin:20260514T103000
LOCATION:Gaststätte 'Hartnicks'\,Am Anger 16\,03116 Siewisch
SUMMARY:Himmelfahrt
URL:https://www.drebkauer-ansichten.de/index.php?option=com_jem&view=event&
 id=3827:himmelfahrt
END:VEVENT
END:VCALENDAR