BEGIN:VCALENDAR
VERSION:2.0
PRODID:-//80.152.173.35//NONSGML kigkonsult.se iCalcreator 2.20//
CALSCALE:GREGORIAN
METHOD:PUBLISH
X-WR-TIMEZONE:Europe/Berlin
BEGIN:VEVENT
UID:event3826@Drebkauer-Ansichten
DTSTAMP:20260421T145041Z
CATEGORIES:Musik & Tanz\, Sport & Freizeit\, Bildung & Kultur
DESCRIPTION:NARRETEI im Mai\nKategorie: Musik & Tanz\, Sport & Freizeit\, B
 ildung & Kultur\nICS-Link: https://www.drebkauer-ansichten.de/index.php?op
 tion=com_jem&view=event&id=3826:narretei-im-mai\n
DTSTART;TZID=Europe/Berlin:20260502T191100
DTEND;TZID=Europe/Berlin:20260502T191100
LOCATION:KFZ Neupetershain\,Spremberger Straße 19\,03103 Neupetershain
SUMMARY:NARRETEI im Mai
URL:https://www.drebkauer-ansichten.de/index.php?option=com_jem&view=event&
 id=3826:narretei-im-mai
END:VEVENT
END:VCALENDAR